Package: TimerQuant Version: 1.39.0 Command: /home/biocbuild/bbs-3.22-bioc/R/bin/R CMD INSTALL TimerQuant StartedAt: 2025-07-17 10:56:27 -0400 (Thu, 17 Jul 2025) EndedAt: 2025-07-17 10:56:32 -0400 (Thu, 17 Jul 2025) EllapsedTime: 5.6 seconds RetCode: 0 Status: OK