Package: TimerQuant Version: 1.39.0 Command: /home/biocbuild/bbs-3.22-bioc/R/bin/R CMD build --keep-empty-dirs --no-resave-data TimerQuant StartedAt: 2025-07-17 11:46:18 -0400 (Thu, 17 Jul 2025) EndedAt: 2025-07-17 11:47:17 -0400 (Thu, 17 Jul 2025) EllapsedTime: 58.4 seconds RetCode: 0 Status: OK PackageFile: TimerQuant_1.39.0.tar.gz PackageFileSize: 1.746 MiB