Package: TMExplorer Version: 1.19.0 Command: /home/biocbuild/bbs-3.22-bioc/R/bin/R CMD INSTALL TMExplorer StartedAt: 2025-07-17 10:59:30 -0400 (Thu, 17 Jul 2025) EndedAt: 2025-07-17 10:59:54 -0400 (Thu, 17 Jul 2025) EllapsedTime: 24.5 seconds RetCode: 0 Status: OK