Package: TENxBUSData Version: 1.25.0 Command: /home/biocbuild/bbs-3.23-bioc/R/bin/R CMD INSTALL TENxBUSData StartedAt: 2025-11-11 10:56:56 -0500 (Tue, 11 Nov 2025) EndedAt: 2025-11-11 10:57:09 -0500 (Tue, 11 Nov 2025) EllapsedTime: 13.3 seconds RetCode: 0 Status: OK