Package: TENxBUSData Version: 1.25.0 Command: /home/biocbuild/bbs-3.23-bioc/R/bin/R CMD build --keep-empty-dirs --no-resave-data TENxBUSData StartedAt: 2025-11-11 11:45:44 -0500 (Tue, 11 Nov 2025) EndedAt: 2025-11-11 11:46:11 -0500 (Tue, 11 Nov 2025) EllapsedTime: 27.6 seconds RetCode: 0 Status: OK PackageFile: TENxBUSData_1.25.0.tar.gz PackageFileSize: 221.3 KiB