Package: TENET.ExperimentHub Version: 1.1.0 Command: /home/biocbuild/bbs-3.22-bioc/R/bin/R CMD build --keep-empty-dirs --no-resave-data TENET.ExperimentHub StartedAt: 2025-10-02 11:45:01 -0400 (Thu, 02 Oct 2025) EndedAt: 2025-10-02 11:45:50 -0400 (Thu, 02 Oct 2025) EllapsedTime: 48.6 seconds RetCode: 0 Status: OK PackageFile: TENET.ExperimentHub_1.1.0.tar.gz PackageFileSize: 244.6 KiB