Package: SubcellularSpatialData Version: 1.5.0 Command: /home/biocbuild/bbs-3.22-bioc/R/bin/R CMD INSTALL SubcellularSpatialData StartedAt: 2025-07-17 11:02:11 -0400 (Thu, 17 Jul 2025) EndedAt: 2025-07-17 11:02:13 -0400 (Thu, 17 Jul 2025) EllapsedTime: 2.0 seconds RetCode: 0 Status: OK