Package: SubcellularSpatialData Version: 1.5.0 Command: /home/biocbuild/bbs-3.22-bioc/R/bin/R CMD build --keep-empty-dirs --no-resave-data SubcellularSpatialData StartedAt: 2025-07-17 11:43:18 -0400 (Thu, 17 Jul 2025) EndedAt: 2025-07-17 11:44:26 -0400 (Thu, 17 Jul 2025) EllapsedTime: 67.8 seconds RetCode: 0 Status: OK PackageFile: SubcellularSpatialData_1.5.0.tar.gz PackageFileSize: 2.311 MiB