Package: SpikeInSubset Version: 1.49.0 Command: /home/biocbuild/bbs-3.22-bioc/R/bin/R CMD INSTALL SpikeInSubset StartedAt: 2025-07-17 10:56:13 -0400 (Thu, 17 Jul 2025) EndedAt: 2025-07-17 10:56:18 -0400 (Thu, 17 Jul 2025) EllapsedTime: 4.3 seconds RetCode: 0 Status: OK