Package: SpikeInSubset Version: 1.49.0 Command: /home/biocbuild/bbs-3.22-bioc/R/bin/R CMD build --keep-empty-dirs --no-resave-data SpikeInSubset StartedAt: 2025-07-17 11:43:09 -0400 (Thu, 17 Jul 2025) EndedAt: 2025-07-17 11:43:14 -0400 (Thu, 17 Jul 2025) EllapsedTime: 5.0 seconds RetCode: 0 Status: OK PackageFile: SpikeInSubset_1.49.0.tar.gz PackageFileSize: 17.99 MiB