Package: SingleCellMultiModal Version: 1.21.3 Command: /home/biocbuild/bbs-3.22-bioc/R/bin/R CMD build --keep-empty-dirs --no-resave-data SingleCellMultiModal StartedAt: 2025-07-17 11:42:27 -0400 (Thu, 17 Jul 2025) EndedAt: 2025-07-17 11:48:37 -0400 (Thu, 17 Jul 2025) EllapsedTime: 369.7 seconds RetCode: 0 Status: OK PackageFile: SingleCellMultiModal_1.21.3.tar.gz PackageFileSize: 2.865 MiB