Package: Single.mTEC.Transcriptomes Version: 1.37.0 Command: /home/biocbuild/bbs-3.22-bioc/R/bin/R CMD build --keep-empty-dirs --no-resave-data Single.mTEC.Transcriptomes StartedAt: 2025-07-17 11:42:22 -0400 (Thu, 17 Jul 2025) EndedAt: 2025-07-17 11:46:39 -0400 (Thu, 17 Jul 2025) EllapsedTime: 257.0 seconds RetCode: 1 Status: ERROR PackageFile: None PackageFileSize: NA