Package: SVM2CRMdata Version: 1.43.0 Command: /home/biocbuild/bbs-3.23-bioc/R/bin/R CMD build --keep-empty-dirs --no-resave-data SVM2CRMdata StartedAt: 2025-11-20 11:45:06 -0500 (Thu, 20 Nov 2025) EndedAt: 2025-11-20 11:48:29 -0500 (Thu, 20 Nov 2025) EllapsedTime: 203.2 seconds RetCode: 0 Status: OK PackageFile: SVM2CRMdata_1.43.0.tar.gz PackageFileSize: 345 MiB