Package: STexampleData Version: 1.17.0 Command: /home/biocbuild/bbs-3.22-bioc/R/bin/R CMD INSTALL STexampleData StartedAt: 2025-07-17 10:58:45 -0400 (Thu, 17 Jul 2025) EndedAt: 2025-07-17 10:59:14 -0400 (Thu, 17 Jul 2025) EllapsedTime: 29.0 seconds RetCode: 0 Status: OK