Package: SNAData Version: 1.57.0 Command: /home/biocbuild/bbs-3.23-bioc/R/bin/R CMD INSTALL SNAData StartedAt: 2025-11-20 10:56:30 -0500 (Thu, 20 Nov 2025) EndedAt: 2025-11-20 10:56:36 -0500 (Thu, 20 Nov 2025) EllapsedTime: 5.9 seconds RetCode: 0 Status: OK