Package: SNAData Version: 1.57.0 Command: /home/biocbuild/bbs-3.23-bioc/R/bin/R CMD build --keep-empty-dirs --no-resave-data SNAData StartedAt: 2025-11-20 11:44:26 -0500 (Thu, 20 Nov 2025) EndedAt: 2025-11-20 11:44:32 -0500 (Thu, 20 Nov 2025) EllapsedTime: 6.4 seconds RetCode: 0 Status: OK PackageFile: SNAData_1.57.0.tar.gz PackageFileSize: 135 KiB