Package: SFEData Version: 1.13.0 Command: /home/biocbuild/bbs-3.23-bioc/R/bin/R CMD INSTALL SFEData StartedAt: 2025-11-11 10:56:43 -0500 (Tue, 11 Nov 2025) EndedAt: 2025-11-11 10:56:56 -0500 (Tue, 11 Nov 2025) EllapsedTime: 13.0 seconds RetCode: 0 Status: OK