Package: SFEData Version: 1.13.0 Command: /home/biocbuild/bbs-3.23-bioc/R/bin/R CMD build --keep-empty-dirs --no-resave-data SFEData StartedAt: 2025-11-11 11:42:31 -0500 (Tue, 11 Nov 2025) EndedAt: 2025-11-11 11:43:08 -0500 (Tue, 11 Nov 2025) EllapsedTime: 37.5 seconds RetCode: 0 Status: OK PackageFile: SFEData_1.13.0.tar.gz PackageFileSize: 256.9 KiB