Package: RforProteomics Version: 1.49.0 Command: /home/biocbuild/bbs-3.23-bioc/R/bin/R CMD build --keep-empty-dirs --no-resave-data RforProteomics StartedAt: 2025-11-06 11:37:26 -0500 (Thu, 06 Nov 2025) EndedAt: 2025-11-06 11:43:30 -0500 (Thu, 06 Nov 2025) EllapsedTime: 364.1 seconds RetCode: 0 Status: OK PackageFile: RforProteomics_1.49.0.tar.gz PackageFileSize: 9.168 MiB