Package: RegParallel Version: 1.27.0 Command: /home/biocbuild/bbs-3.22-bioc/R/bin/R CMD INSTALL RegParallel StartedAt: 2025-07-17 11:03:44 -0400 (Thu, 17 Jul 2025) EndedAt: 2025-07-17 11:03:53 -0400 (Thu, 17 Jul 2025) EllapsedTime: 8.5 seconds RetCode: 0 Status: OK