Package: ReactomeGSA.data Version: 1.23.0 Command: /home/biocbuild/bbs-3.22-bioc/R/bin/R CMD INSTALL ReactomeGSA.data StartedAt: 2025-07-17 11:03:20 -0400 (Thu, 17 Jul 2025) EndedAt: 2025-07-17 11:03:37 -0400 (Thu, 17 Jul 2025) EllapsedTime: 17.3 seconds RetCode: 0 Status: OK