Package: RTCGA.mutations Version: 20151101.39.0 Command: /home/biocbuild/bbs-3.22-bioc/R/bin/R CMD INSTALL RTCGA.mutations StartedAt: 2025-07-17 11:04:04 -0400 (Thu, 17 Jul 2025) EndedAt: 2025-07-17 11:07:08 -0400 (Thu, 17 Jul 2025) EllapsedTime: 183.7 seconds RetCode: 0 Status: OK