Package: RNAmodR.Data Version: 1.25.0 Command: /home/biocbuild/bbs-3.23-bioc/R/bin/R CMD INSTALL RNAmodR.Data StartedAt: 2025-11-20 11:03:23 -0500 (Thu, 20 Nov 2025) EndedAt: 2025-11-20 11:04:02 -0500 (Thu, 20 Nov 2025) EllapsedTime: 38.3 seconds RetCode: 0 Status: OK