Package: QDNAseq.hg19 Version: 1.39.0 Command: /home/biocbuild/bbs-3.22-bioc/R/bin/R CMD INSTALL QDNAseq.hg19 StartedAt: 2025-07-17 11:02:14 -0400 (Thu, 17 Jul 2025) EndedAt: 2025-07-17 11:02:27 -0400 (Thu, 17 Jul 2025) EllapsedTime: 12.7 seconds RetCode: 0 Status: OK