Package: PtH2O2lipids Version: 1.35.0 Command: /home/biocbuild/bbs-3.22-bioc/R/bin/R CMD INSTALL PtH2O2lipids StartedAt: 2025-09-30 11:04:37 -0400 (Tue, 30 Sep 2025) EndedAt: 2025-09-30 11:05:29 -0400 (Tue, 30 Sep 2025) EllapsedTime: 52.2 seconds RetCode: 0 Status: OK