Package: ProData Version: 1.47.0 Command: /home/biocbuild/bbs-3.22-bioc/R/bin/R CMD build --keep-empty-dirs --no-resave-data ProData StartedAt: 2025-07-17 11:35:31 -0400 (Thu, 17 Jul 2025) EndedAt: 2025-07-17 11:35:33 -0400 (Thu, 17 Jul 2025) EllapsedTime: 1.7 seconds RetCode: 0 Status: OK PackageFile: ProData_1.47.0.tar.gz PackageFileSize: 19.05 MiB