Package: PhyloProfileData Version: 1.25.0 Command: /home/biocbuild/bbs-3.23-bioc/R/bin/R CMD INSTALL PhyloProfileData StartedAt: 2025-11-06 10:57:50 -0500 (Thu, 06 Nov 2025) EndedAt: 2025-11-06 10:58:03 -0500 (Thu, 06 Nov 2025) EllapsedTime: 13.6 seconds RetCode: 0 Status: OK