Package: PhyloProfileData Version: 1.25.0 Command: /home/biocbuild/bbs-3.23-bioc/R/bin/R CMD build --keep-empty-dirs --no-resave-data PhyloProfileData StartedAt: 2025-11-06 11:35:20 -0500 (Thu, 06 Nov 2025) EndedAt: 2025-11-06 11:35:51 -0500 (Thu, 06 Nov 2025) EllapsedTime: 31.2 seconds RetCode: 0 Status: OK PackageFile: PhyloProfileData_1.25.0.tar.gz PackageFileSize: 228 KiB