Package: PasillaTranscriptExpr Version: 1.37.0 Command: /home/biocbuild/bbs-3.22-bioc/R/bin/R CMD INSTALL PasillaTranscriptExpr StartedAt: 2025-07-17 10:55:25 -0400 (Thu, 17 Jul 2025) EndedAt: 2025-07-17 10:55:26 -0400 (Thu, 17 Jul 2025) EllapsedTime: 0.9 seconds RetCode: 0 Status: OK