Package: PasillaTranscriptExpr Version: 1.37.0 Command: /home/biocbuild/bbs-3.22-bioc/R/bin/R CMD build --keep-empty-dirs --no-resave-data PasillaTranscriptExpr StartedAt: 2025-07-17 11:34:21 -0400 (Thu, 17 Jul 2025) EndedAt: 2025-07-17 11:34:37 -0400 (Thu, 17 Jul 2025) EllapsedTime: 16.6 seconds RetCode: 0 Status: OK PackageFile: PasillaTranscriptExpr_1.37.0.tar.gz PackageFileSize: 784 KiB