Package: PWMEnrich.Mmusculus.background Version: 4.43.0 Command: /home/biocbuild/bbs-3.22-bioc/R/bin/R CMD INSTALL PWMEnrich.Mmusculus.background StartedAt: 2025-09-30 10:56:34 -0400 (Tue, 30 Sep 2025) EndedAt: 2025-09-30 10:56:41 -0400 (Tue, 30 Sep 2025) EllapsedTime: 6.9 seconds RetCode: 0 Status: OK