Package: PREDAsampledata Version: 0.49.0 Command: /home/biocbuild/bbs-3.22-bioc/R/bin/R CMD INSTALL PREDAsampledata StartedAt: 2025-10-02 10:57:35 -0400 (Thu, 02 Oct 2025) EndedAt: 2025-10-02 10:57:59 -0400 (Thu, 02 Oct 2025) EllapsedTime: 24.2 seconds RetCode: 0 Status: OK