Package: OMICsPCAdata Version: 1.27.0 Command: /home/biocbuild/bbs-3.22-bioc/R/bin/R CMD INSTALL OMICsPCAdata StartedAt: 2025-09-30 11:00:31 -0400 (Tue, 30 Sep 2025) EndedAt: 2025-09-30 11:01:14 -0400 (Tue, 30 Sep 2025) EllapsedTime: 43.2 seconds RetCode: 0 Status: OK