Package: NetActivityData Version: 1.11.0 Command: /home/biocbuild/bbs-3.22-bioc/R/bin/R CMD INSTALL NetActivityData StartedAt: 2025-07-17 10:55:54 -0400 (Thu, 17 Jul 2025) EndedAt: 2025-07-17 10:55:59 -0400 (Thu, 17 Jul 2025) EllapsedTime: 4.3 seconds RetCode: 0 Status: OK