Package: NanoporeRNASeq Version: 1.19.0 Command: /home/biocbuild/bbs-3.22-bioc/R/bin/R CMD INSTALL NanoporeRNASeq StartedAt: 2025-09-30 10:57:06 -0400 (Tue, 30 Sep 2025) EndedAt: 2025-09-30 10:57:15 -0400 (Tue, 30 Sep 2025) EllapsedTime: 9.7 seconds RetCode: 0 Status: OK