Package: NanoporeRNASeq Version: 1.19.0 Command: /home/biocbuild/bbs-3.22-bioc/R/bin/R CMD build --keep-empty-dirs --no-resave-data NanoporeRNASeq StartedAt: 2025-10-02 11:32:37 -0400 (Thu, 02 Oct 2025) EndedAt: 2025-10-02 11:34:50 -0400 (Thu, 02 Oct 2025) EllapsedTime: 132.9 seconds RetCode: 0 Status: OK PackageFile: NanoporeRNASeq_1.19.0.tar.gz PackageFileSize: 234.7 KiB