Package: MouseGastrulationData Version: 1.25.0 Maintainer: Jonathan Griffiths MaintainerEmail: jonathan.griffiths.94 at gmail.com git_url: https://git.bioconductor.org/packages/MouseGastrulationData git_branch: devel git_last_commit: eba42d3 git_last_commit_date: 2025-10-29 10:01:52 -0400 (Wed, 29 Oct 2025)