Package: MicrobiomeBenchmarkData Version: 1.11.0 Command: /home/biocbuild/bbs-3.22-bioc/R/bin/R CMD INSTALL MicrobiomeBenchmarkData StartedAt: 2025-07-17 10:58:51 -0400 (Thu, 17 Jul 2025) EndedAt: 2025-07-17 10:59:20 -0400 (Thu, 17 Jul 2025) EllapsedTime: 29.0 seconds RetCode: 0 Status: OK