Package: MetaScope Version: 1.9.4 Command: /home/biocbuild/bbs-3.22-bioc/R/bin/R CMD build --keep-empty-dirs --no-resave-data MetaScope StartedAt: 2025-07-17 11:29:14 -0400 (Thu, 17 Jul 2025) EndedAt: 2025-07-17 11:37:45 -0400 (Thu, 17 Jul 2025) EllapsedTime: 510.4 seconds RetCode: 0 Status: OK PackageFile: MetaScope_1.9.4.tar.gz PackageFileSize: 3.687 MiB