Package: MerfishData Version: 1.11.1 Command: /home/biocbuild/bbs-3.22-bioc/R/bin/R CMD build --keep-empty-dirs --no-resave-data MerfishData StartedAt: 2025-07-17 11:28:20 -0400 (Thu, 17 Jul 2025) EndedAt: 2025-07-17 11:36:50 -0400 (Thu, 17 Jul 2025) EllapsedTime: 509.9 seconds RetCode: 0 Status: OK PackageFile: MerfishData_1.11.1.tar.gz PackageFileSize: 24.11 MiB