Package: MSMB Version: 1.27.0 Command: /home/biocbuild/bbs-3.22-bioc/R/bin/R CMD INSTALL MSMB StartedAt: 2025-07-22 10:56:25 -0400 (Tue, 22 Jul 2025) EndedAt: 2025-07-22 10:56:27 -0400 (Tue, 22 Jul 2025) EllapsedTime: 1.8 seconds RetCode: 0 Status: OK