Package: MOFAdata Version: 1.27.0 Maintainer: Britta Velten MaintainerEmail: britta.velten at gmail.com git_url: https://git.bioconductor.org/packages/MOFAdata git_branch: devel git_last_commit: f1a188a git_last_commit_date: 2025-10-29 10:01:28 -0400 (Wed, 29 Oct 2025)