Package: MEDIPSData Version: 1.47.0 Command: /home/biocbuild/bbs-3.23-bioc/R/bin/R CMD INSTALL MEDIPSData StartedAt: 2025-11-20 10:55:25 -0500 (Thu, 20 Nov 2025) EndedAt: 2025-11-20 10:55:27 -0500 (Thu, 20 Nov 2025) EllapsedTime: 1.9 seconds RetCode: 0 Status: OK