Package: M3DExampleData Version: 1.37.0 Command: /home/biocbuild/bbs-3.23-bioc/R/bin/R CMD check --install=check:M3DExampleData.install-out.txt --library=/home/biocbuild/bbs-3.23-bioc/R/site-library --timings M3DExampleData_1.37.0.tar.gz StartedAt: 2025-11-11 12:35:33 -0500 (Tue, 11 Nov 2025) EndedAt: 2025-11-11 12:35:45 -0500 (Tue, 11 Nov 2025) EllapsedTime: 11.6 seconds RetCode: 0 Status: WARNINGS CheckDir: M3DExampleData.Rcheck Warnings: 1