Package: LegATo Version: 1.5.0 Command: /home/biocbuild/bbs-3.23-bioc/R/bin/R CMD build --keep-empty-dirs --no-resave-data LegATo StartedAt: 2025-11-06 11:26:28 -0500 (Thu, 06 Nov 2025) EndedAt: 2025-11-06 11:28:06 -0500 (Thu, 06 Nov 2025) EllapsedTime: 97.8 seconds RetCode: 0 Status: OK PackageFile: LegATo_1.5.0.tar.gz PackageFileSize: 1.236 MiB