Package: KEGGandMetacoreDzPathwaysGEO Version: 1.31.0 Command: /home/biocbuild/bbs-3.23-bioc/R/bin/R CMD INSTALL KEGGandMetacoreDzPathwaysGEO StartedAt: 2025-11-27 10:56:22 -0500 (Thu, 27 Nov 2025) EndedAt: 2025-11-27 10:56:26 -0500 (Thu, 27 Nov 2025) EllapsedTime: 3.9 seconds RetCode: 0 Status: OK