Package: JASPAR2014 Version: 1.45.0 Command: /home/biocbuild/bbs-3.22-bioc/R/bin/R CMD INSTALL JASPAR2014 StartedAt: 2025-07-22 10:56:28 -0400 (Tue, 22 Jul 2025) EndedAt: 2025-07-22 10:56:57 -0400 (Tue, 22 Jul 2025) EllapsedTime: 29.1 seconds RetCode: 0 Status: OK