Package: HiCDataLymphoblast Version: 1.47.0 Command: /home/biocbuild/bbs-3.23-bioc/R/bin/R CMD build --keep-empty-dirs --no-resave-data HiCDataLymphoblast StartedAt: 2025-11-20 11:24:38 -0500 (Thu, 20 Nov 2025) EndedAt: 2025-11-20 11:25:10 -0500 (Thu, 20 Nov 2025) EllapsedTime: 31.6 seconds RetCode: 0 Status: OK PackageFile: HiCDataLymphoblast_1.47.0.tar.gz PackageFileSize: 16.52 MiB