Package: HarmonizedTCGAData Version: 1.33.0 Command: /home/biocbuild/bbs-3.23-bioc/R/bin/R CMD build --keep-empty-dirs --no-resave-data HarmonizedTCGAData StartedAt: 2025-11-06 11:21:58 -0500 (Thu, 06 Nov 2025) EndedAt: 2025-11-06 11:22:31 -0500 (Thu, 06 Nov 2025) EllapsedTime: 33.7 seconds RetCode: 0 Status: OK PackageFile: HarmonizedTCGAData_1.33.0.tar.gz PackageFileSize: 719.3 KiB