Package: HMP2Data Version: 1.25.0 Command: /home/biocbuild/bbs-3.23-bioc/R/bin/R CMD INSTALL HMP2Data StartedAt: 2025-11-06 11:00:31 -0500 (Thu, 06 Nov 2025) EndedAt: 2025-11-06 11:01:07 -0500 (Thu, 06 Nov 2025) EllapsedTime: 36.1 seconds RetCode: 0 Status: OK